BEGIN:VCALENDAR
VERSION:2.0
PRODID:-//CEPEP - ECPv6.15.20//NONSGML v1.0//EN
CALSCALE:GREGORIAN
METHOD:PUBLISH
X-ORIGINAL-URL:https://cepep.fr
X-WR-CALDESC:Évènements pour CEPEP
REFRESH-INTERVAL;VALUE=DURATION:PT1H
X-Robots-Tag:noindex
X-PUBLISHED-TTL:PT1H
BEGIN:VTIMEZONE
TZID:Europe/Paris
BEGIN:DAYLIGHT
TZOFFSETFROM:+0100
TZOFFSETTO:+0200
TZNAME:CEST
DTSTART:20250330T010000
END:DAYLIGHT
BEGIN:STANDARD
TZOFFSETFROM:+0200
TZOFFSETTO:+0100
TZNAME:CET
DTSTART:20251026T010000
END:STANDARD
BEGIN:DAYLIGHT
TZOFFSETFROM:+0100
TZOFFSETTO:+0200
TZNAME:CEST
DTSTART:20260329T010000
END:DAYLIGHT
BEGIN:STANDARD
TZOFFSETFROM:+0200
TZOFFSETTO:+0100
TZNAME:CET
DTSTART:20261025T010000
END:STANDARD
BEGIN:DAYLIGHT
TZOFFSETFROM:+0100
TZOFFSETTO:+0200
TZNAME:CEST
DTSTART:20270328T010000
END:DAYLIGHT
BEGIN:STANDARD
TZOFFSETFROM:+0200
TZOFFSETTO:+0100
TZNAME:CET
DTSTART:20271031T010000
END:STANDARD
END:VTIMEZONE
BEGIN:VEVENT
DTSTART;TZID=Europe/Paris:20260522T100000
DTEND;TZID=Europe/Paris:20260523T213000
DTSTAMP:20260421T103948
CREATED:20260415T092411Z
LAST-MODIFIED:20260417T050355Z
UID:7226-1779444000-1779571800@cepep.fr
SUMMARY:Festival Nouvelles voix 2026
DESCRIPTION:Festival Nouvelles Voix 2026 : le rendez-vous des médias et des cultures populaires à Saint-Ouen \nNouvelles Voix est de retour. \nLe festival qui donne la parole à celles et ceux qu’on entend trop peu revient pour sa 3e édition les 22 et 23 mai 2026 à la La Communale Saint-Ouen.\nPendant deux jours\, journalistes\, créateur·rice·s\, artistes et porteur·se·s de projets se réunissent autour d’une programmation engagée dédiée aux médias indépendants\, aux récits de terrain et aux cultures populaires.\nTalks\, ateliers\, projections\, concerts\, expositions\, podcasts live\, gaming\, danse\, fresque collaborative…Un festival vivant\, ouvert et accessible à toutes et tous. \nÀ propos du Festival Nouvelles Voix\nLe Festival Nouvelles Voix\, porté par le CEPEP et la Maison des Médias\, revient pour sa 3e édition avec une ambition claire :faire émerger les récits issus des quartiers populaires et des médias indépendants. \nPensé comme : \n\nun espace de rencontres et de transmission\nun terrain d’expression collective\n\nle festival met au centre celles et ceux qui produisent\, racontent et diffusent ces récits au quotidien. \nIci\, les cultures populaires ne sont pas en marge. Elles sont au cœur. \nUn festival unique dédié à la prise de parole\nNouvelles Voix n’est pas seulement un festival. \nC’est un espace où : \n\nles voix invisibilisées deviennent audibles\nles récits prennent le pouvoir\nles publics deviennent acteurs\n\nPendant deux jours : \n\nles médias émergents rencontrent leur public\nles créateur·rice·s partagent leurs expériences\nles participant·e·s prennent la parole\n\n Un événement ancré dans les réalités des territoires\, au croisement de l’éducation populaire\, des médias et de la création. \n \n  \nProgramme du Festival Nouvelles Voix 2026\nUne programmation riche\, hybride et participative : \nTalks & rencontres\nÉchanges avec journalistes\, médias indépendants et acteur·rice·s engagé·e·s autour des enjeux de représentation\, d’information et de récits. \nAteliers participatifs\nPodcast\, prise de parole\, éducation aux médias\, création de contenu…Des formats accessibles pour apprendre en faisant. \nProjections & formats immersifs\nDocumentaires\, courts formats et créations originales. \nPodcasts live\nDes enregistrements en direct pour plonger dans les coulisses des médias. \nGaming & cultures numériques\nExploration des nouvelles formes de narration et de création. \n Initiations & performances\nDans\, scène\, expression corporelle : la culture en mouvement. \nFresque collaborative\nUn espace de création collective ouvert à toutes et tous. \nMarché de créateur·rice·s\nMode\, édition\, art : des projets indépendants à découvrir. \nConcert exceptionnel\nAvec notamment Médine. \nFAQ\n\n			\n				\n			\n			Le Festival Nouvelles Voix est-il gratuit ?\n		 \n		\n			À qui s’adresse le festival ?\n		 \n		\n			Peut-on participer activement ?\n		 \n		\n			Quels sont les temps forts ?\n		 \n		\n			Pourquoi je ne vois que le programme du samedi ?\n		\n		 \n		\n			\n				\n					\n			Oui\, la majorité des activités sont gratuites. Certains événements nécessitent une inscription.\n		 \n		\n			À toutes et tous : jeunes\, habitant·e·s\, professionnel·le·s\, créateur·rice·s et curieux·ses.\n		 \n		\n			Oui\, le festival propose de nombreux formats participatifs : ateliers\, débats\, créations collectives.\n		 \n		\n			Talks\, podcasts live\, ateliers\, concert de Médine\, performances\, expositions et marché de créateur·rice·s.\n		 \n		\n			Le festival se déroule sur deux jours avec deux publics différents. Le vendredi est réservé aux publics scolaires et aux groupes accompagnés dans le cadre de parcours pédagogiques. Le samedi\, le festival est ouvert à toutes et tous\, avec l’ensemble de la programmation accessible au grand public. C’est pour cela que le programme communiqué publiquement met principalement en avant la journée du samedi.
URL:https://cepep.fr/event/festival-nouvelles-voix-2026/
LOCATION:Communale Saint-Ouen\, 10 ter Rue de l'hippodrome\, Saint-Ouen-sur-Seine\, 93400\, France
CATEGORIES:Festival
ATTACH;FMTTYPE=image/webp:https://cepep.fr/wp-content/uploads/2026/04/MEDIA-CARRE-1.webp
ORGANIZER;CN="CEPEP":MAILTO:contact@cepep.fr
END:VEVENT
END:VCALENDAR