BEGIN:VCALENDAR
VERSION:2.0
PRODID:-//CEPEP - ECPv6.15.20//NONSGML v1.0//EN
CALSCALE:GREGORIAN
METHOD:PUBLISH
X-ORIGINAL-URL:https://cepep.fr
X-WR-CALDESC:Évènements pour CEPEP
REFRESH-INTERVAL;VALUE=DURATION:PT1H
X-Robots-Tag:noindex
X-PUBLISHED-TTL:PT1H
BEGIN:VTIMEZONE
TZID:Europe/Paris
BEGIN:DAYLIGHT
TZOFFSETFROM:+0100
TZOFFSETTO:+0200
TZNAME:CEST
DTSTART:20240331T010000
END:DAYLIGHT
BEGIN:STANDARD
TZOFFSETFROM:+0200
TZOFFSETTO:+0100
TZNAME:CET
DTSTART:20241027T010000
END:STANDARD
BEGIN:DAYLIGHT
TZOFFSETFROM:+0100
TZOFFSETTO:+0200
TZNAME:CEST
DTSTART:20250330T010000
END:DAYLIGHT
BEGIN:STANDARD
TZOFFSETFROM:+0200
TZOFFSETTO:+0100
TZNAME:CET
DTSTART:20251026T010000
END:STANDARD
BEGIN:DAYLIGHT
TZOFFSETFROM:+0100
TZOFFSETTO:+0200
TZNAME:CEST
DTSTART:20260329T010000
END:DAYLIGHT
BEGIN:STANDARD
TZOFFSETFROM:+0200
TZOFFSETTO:+0100
TZNAME:CET
DTSTART:20261025T010000
END:STANDARD
END:VTIMEZONE
BEGIN:VEVENT
DTSTART;TZID=Europe/Paris:20250403T183000
DTEND;TZID=Europe/Paris:20250403T213000
DTSTAMP:20260424T050940
CREATED:20250314T172735Z
LAST-MODIFIED:20260414T220826Z
UID:6216-1743705000-1743715800@cepep.fr
SUMMARY:Les Rencontres du Lab avec Youssouf Fofana
DESCRIPTION:Rencontre avec Youssouf Fofana\nLe Lab revient en force pour une nouvelle rencontre inspirante !\nCette fois\, on plonge au cœur de la culture et de l’héritage avec un invité d’exception : Youssouf\, fondateur de la marque emblématique Maison Château Rouge. Le jeudi 3 avril 2025 à Communale. Viens échanger avec nous sur le thème : « Une culture internationale et populaire en héritage »\nUne soirée haute en couleurs\, entre discussion et immersion visuelle. L’entrée est gratuite\, mais les places sont limitées !
URL:https://cepep.fr/event/les-rencontres-du-lab-avec-youssouf-fofana/
LOCATION:Communale Saint-Ouen\, 10 ter Rue de l'hippodrome\, Saint-Ouen-sur-Seine\, 93400\, France
CATEGORIES:Les Rencontres du Lab
ATTACH;FMTTYPE=image/jpeg:https://cepep.fr/wp-content/uploads/2025/04/gg-e1776204496154.jpg
ORGANIZER;CN="CEPEP":MAILTO:contact@cepep.fr
END:VEVENT
END:VCALENDAR