BEGIN:VCALENDAR
VERSION:2.0
PRODID:-//CEPEP - ECPv6.15.20//NONSGML v1.0//EN
CALSCALE:GREGORIAN
METHOD:PUBLISH
X-WR-CALNAME:CEPEP
X-ORIGINAL-URL:https://cepep.fr
X-WR-CALDESC:Évènements pour CEPEP
REFRESH-INTERVAL;VALUE=DURATION:PT1H
X-Robots-Tag:noindex
X-PUBLISHED-TTL:PT1H
BEGIN:VTIMEZONE
TZID:Europe/Paris
BEGIN:DAYLIGHT
TZOFFSETFROM:+0100
TZOFFSETTO:+0200
TZNAME:CEST
DTSTART:20240331T010000
END:DAYLIGHT
BEGIN:STANDARD
TZOFFSETFROM:+0200
TZOFFSETTO:+0100
TZNAME:CET
DTSTART:20241027T010000
END:STANDARD
BEGIN:DAYLIGHT
TZOFFSETFROM:+0100
TZOFFSETTO:+0200
TZNAME:CEST
DTSTART:20250330T010000
END:DAYLIGHT
BEGIN:STANDARD
TZOFFSETFROM:+0200
TZOFFSETTO:+0100
TZNAME:CET
DTSTART:20251026T010000
END:STANDARD
BEGIN:DAYLIGHT
TZOFFSETFROM:+0100
TZOFFSETTO:+0200
TZNAME:CEST
DTSTART:20260329T010000
END:DAYLIGHT
BEGIN:STANDARD
TZOFFSETFROM:+0200
TZOFFSETTO:+0100
TZNAME:CET
DTSTART:20261025T010000
END:STANDARD
END:VTIMEZONE
BEGIN:VEVENT
DTSTART;TZID=Europe/Paris:20250227T183000
DTEND;TZID=Europe/Paris:20250227T203000
DTSTAMP:20260424T074723
CREATED:20260414T214802Z
LAST-MODIFIED:20260414T214938Z
UID:7204-1740681000-1740688200@cepep.fr
SUMMARY:Les Rencontres du Lab avec Harry Roselmack
DESCRIPTION:Les Rencontres du Lab – Édition spéciale\nLes Rencontres du Lab sont de retour pour une nouvelle soirée d’échanges\, de débats et de découvertes !\nNous aurons le plaisir d’accueillir Harry Roselmack pour une rencontre exceptionnelle autour de son travail et de ses engagements.\nLa soirée sera l’occasion d’échanger autour de son nouveau documentaire « L’État Républi-nial »\, mais aussi d’explorer plus largement ses réflexions sur les médias et la société.\nEn bonus : projection gratuite du film \nInformations pratiques\n📍 Lieu : Communale Saint-Ouen📆 Date : 27 février🎟️ Accès : gratuit sur inscription (places limitées) \nÀ ne pas manquer\nLes places étant limitées\, pensez à vous inscrire rapidement via le lien en bio et à venir accompagné·es !  Une soirée pour réfléchir\, débattre et découvrir autrement le travail d’un grand nom du journalisme français.
URL:https://cepep.fr/event/les-rencontres-du-lab-avec-harry-roselmack/
LOCATION:Communale Saint-Ouen\, 10 ter Rue de l'hippodrome\, Saint-Ouen-sur-Seine\, 93400\, France
CATEGORIES:Les Rencontres du Lab
ATTACH;FMTTYPE=image/png:https://cepep.fr/wp-content/uploads/2025/03/Design-sans-titre-1.png
ORGANIZER;CN="CEPEP":MAILTO:contact@cepep.fr
END:VEVENT
END:VCALENDAR