BEGIN:VCALENDAR
VERSION:2.0
PRODID:-//CEPEP - ECPv6.15.20//NONSGML v1.0//EN
CALSCALE:GREGORIAN
METHOD:PUBLISH
X-WR-CALNAME:CEPEP
X-ORIGINAL-URL:https://cepep.fr
X-WR-CALDESC:Évènements pour CEPEP
REFRESH-INTERVAL;VALUE=DURATION:PT1H
X-Robots-Tag:noindex
X-PUBLISHED-TTL:PT1H
BEGIN:VTIMEZONE
TZID:Europe/Paris
BEGIN:DAYLIGHT
TZOFFSETFROM:+0100
TZOFFSETTO:+0200
TZNAME:CEST
DTSTART:20250330T010000
END:DAYLIGHT
BEGIN:STANDARD
TZOFFSETFROM:+0200
TZOFFSETTO:+0100
TZNAME:CET
DTSTART:20251026T010000
END:STANDARD
BEGIN:DAYLIGHT
TZOFFSETFROM:+0100
TZOFFSETTO:+0200
TZNAME:CEST
DTSTART:20260329T010000
END:DAYLIGHT
BEGIN:STANDARD
TZOFFSETFROM:+0200
TZOFFSETTO:+0100
TZNAME:CET
DTSTART:20261025T010000
END:STANDARD
BEGIN:DAYLIGHT
TZOFFSETFROM:+0100
TZOFFSETTO:+0200
TZNAME:CEST
DTSTART:20270328T010000
END:DAYLIGHT
BEGIN:STANDARD
TZOFFSETFROM:+0200
TZOFFSETTO:+0100
TZNAME:CET
DTSTART:20271031T010000
END:STANDARD
END:VTIMEZONE
BEGIN:VEVENT
DTSTART;TZID=Europe/Paris:20260419T160000
DTEND;TZID=Europe/Paris:20260419T190000
DTSTAMP:20260421T134539
CREATED:20260414T232854Z
LAST-MODIFIED:20260414T232854Z
UID:7222-1776614400-1776625200@cepep.fr
SUMMARY:93’min – La tchatche\, le parler vrai qui sort du cadre
DESCRIPTION:La tchatche\, le parler vrai qui sort du cadre. \nRejoignez-nous pour une nouvelle édition du 93’min\, conférence signée 93 OAK en collaboration avec le CEPEP. Un moment d’échange où la parole se libère et où les idées bousculent les codes. \nInformations pratiques\n📅 Date : 19 avril 2026🕓 Horaires : de 16h à 19h (début effectif à 16h)📍 Lieu : MOB Hôtel\, 6 rue Gambetta\, Saint-Ouen \nAu programme\nDes intervenant·es inspirant·es viendront partager leurs expériences\, leurs visions et leur “parler vrai”. \nUne rencontre pensée comme un espace de discussion libre\, direct et sans détour\, autour de récits et de parcours qui sortent des cadres habituels. \nEntrée\nEntrée libre\, sur réservation ou accès dans la limite des places disponibles.
URL:https://cepep.fr/event/93min-la-tchatche-le-parler-vrai-qui-sort-du-cadre/
CATEGORIES:Rencontre
ATTACH;FMTTYPE=image/webp:https://cepep.fr/wp-content/uploads/2026/04/WhatsApp-Image-2026-04-15-at-01.22.42.webp
ORGANIZER;CN="CEPEP":MAILTO:contact@cepep.fr
END:VEVENT
END:VCALENDAR