BEGIN:VCALENDAR
VERSION:2.0
PRODID:-//CEPEP - ECPv6.15.20//NONSGML v1.0//EN
CALSCALE:GREGORIAN
METHOD:PUBLISH
X-WR-CALNAME:CEPEP
X-ORIGINAL-URL:https://cepep.fr
X-WR-CALDESC:Évènements pour CEPEP
REFRESH-INTERVAL;VALUE=DURATION:PT1H
X-Robots-Tag:noindex
X-PUBLISHED-TTL:PT1H
BEGIN:VTIMEZONE
TZID:Europe/Paris
BEGIN:DAYLIGHT
TZOFFSETFROM:+0100
TZOFFSETTO:+0200
TZNAME:CEST
DTSTART:20240331T010000
END:DAYLIGHT
BEGIN:STANDARD
TZOFFSETFROM:+0200
TZOFFSETTO:+0100
TZNAME:CET
DTSTART:20241027T010000
END:STANDARD
BEGIN:DAYLIGHT
TZOFFSETFROM:+0100
TZOFFSETTO:+0200
TZNAME:CEST
DTSTART:20250330T010000
END:DAYLIGHT
BEGIN:STANDARD
TZOFFSETFROM:+0200
TZOFFSETTO:+0100
TZNAME:CET
DTSTART:20251026T010000
END:STANDARD
BEGIN:DAYLIGHT
TZOFFSETFROM:+0100
TZOFFSETTO:+0200
TZNAME:CEST
DTSTART:20260329T010000
END:DAYLIGHT
BEGIN:STANDARD
TZOFFSETFROM:+0200
TZOFFSETTO:+0100
TZNAME:CET
DTSTART:20261025T010000
END:STANDARD
END:VTIMEZONE
BEGIN:VEVENT
DTSTART;TZID=Europe/Paris:20251019T120000
DTEND;TZID=Europe/Paris:20251019T180000
DTSTAMP:20260423T173530
CREATED:20260414T225850Z
LAST-MODIFIED:20260414T225850Z
UID:7216-1760875200-1760896800@cepep.fr
SUMMARY:Kick It ! De l’âge d’or aux nouvelles voix
DESCRIPTION:Kick It Journée 100% hip-hop à Saint-Ouen\nNostalgique du rap des années 90\, des freestyles et des mixtapes à l’ancienne ou plutôt à l’affût des voix qui construiront le rap de demain;\nKick It arrive le 19 octobre pour une journée entièrement dédiée au hip-hop. Une rencontre entre générations\, entre héritage et futur\, autour d’une passion commune. \nProgramme\nUne masterclass avec Blazing The Game\, figure reconnue du beatmaking \nUn talk sur l’héritage du rap avec Calbo\, Bouba Black et Manu Key \nUne session musicale avec Kyo Itachi pour les lyricistes et amateurs de production affûtée \nUn tremplin rap avec le collectif Call Me Femcee et les artistes Opal\, Anthéaa\, Noelly et Mugler \nEt pour clôturer la journée\, un concert exceptionnel du groupe culte X-Men \nInformations pratiques\nLieu Communale Saint-OuenDate dimanche 19 octobreHoraires 12h à 18hEntrée libre \nUne journée entre passé et futur\nKick It propose un moment unique où les générations du rap se croisent\, échangent et transmettent\, entre culture\, performance et découverte.
URL:https://cepep.fr/event/kick-it-de-lage-dor-aux-nouvelles-voix/
LOCATION:Communale Saint-Ouen\, 10 ter Rue de l'hippodrome\, Saint-Ouen-sur-Seine\, 93400\, France
ATTACH;FMTTYPE=image/webp:https://cepep.fr/wp-content/uploads/2025/10/kiCK-IT-MAQ-OK.webp
ORGANIZER;CN="CEPEP":MAILTO:contact@cepep.fr
END:VEVENT
END:VCALENDAR