BEGIN:VCALENDAR
VERSION:2.0
PRODID:-//CEPEP - ECPv6.15.20//NONSGML v1.0//EN
CALSCALE:GREGORIAN
METHOD:PUBLISH
X-WR-CALNAME:CEPEP
X-ORIGINAL-URL:https://cepep.fr
X-WR-CALDESC:Évènements pour CEPEP
REFRESH-INTERVAL;VALUE=DURATION:PT1H
X-Robots-Tag:noindex
X-PUBLISHED-TTL:PT1H
BEGIN:VTIMEZONE
TZID:Europe/Paris
BEGIN:DAYLIGHT
TZOFFSETFROM:+0100
TZOFFSETTO:+0200
TZNAME:CEST
DTSTART:20240331T010000
END:DAYLIGHT
BEGIN:STANDARD
TZOFFSETFROM:+0200
TZOFFSETTO:+0100
TZNAME:CET
DTSTART:20241027T010000
END:STANDARD
BEGIN:DAYLIGHT
TZOFFSETFROM:+0100
TZOFFSETTO:+0200
TZNAME:CEST
DTSTART:20250330T010000
END:DAYLIGHT
BEGIN:STANDARD
TZOFFSETFROM:+0200
TZOFFSETTO:+0100
TZNAME:CET
DTSTART:20251026T010000
END:STANDARD
BEGIN:DAYLIGHT
TZOFFSETFROM:+0100
TZOFFSETTO:+0200
TZNAME:CEST
DTSTART:20260329T010000
END:DAYLIGHT
BEGIN:STANDARD
TZOFFSETFROM:+0200
TZOFFSETTO:+0100
TZNAME:CET
DTSTART:20261025T010000
END:STANDARD
END:VTIMEZONE
BEGIN:VEVENT
DTSTART;TZID=Europe/Paris:20250515T093000
DTEND;TZID=Europe/Paris:20250516T223000
DTSTAMP:20260425T202012
CREATED:20250415T095156Z
LAST-MODIFIED:20260414T215824Z
UID:6345-1747301400-1747434600@cepep.fr
SUMMARY:Le festival des médias et des cutures populaires: Nouvelles Voix
DESCRIPTION:Festival Nouvelle Voix \nNouvelle Voix revient pour une 2ᵉ édition encore plus intense\, toujours portée par le CEPEP. \nÀ la Communale de Saint-Ouen\, le festival met à l’honneur les médias et les cultures populaires\, en leur donnant un espace pour s’exprimer\, se croiser et se transformer. \nPendant deux jours\, artistes\, journalistes\, créateur·rices et publics se rencontrent autour de formats variés : ateliers\, talks\, projections\, expositions\, concerts et performances. \nLe festival est porté par le Lab des médias et des cultures populaires\, qui accompagne toute l’année des projets émergents et favorise les collaborations entre incubé·es et partenaires. \nNouvelle Voix\, c’est aussi un marché de créateur·rices\, des stands associatifs et des espaces d’échanges\, où la culture devient un véritable outil de dialogue et de transformation sociale.
URL:https://cepep.fr/event/le-festival-des-medias-et-des-cutures-populaires-nouvelles-voix/
LOCATION:Communale Saint-Ouen\, 10 ter Rue de l'hippodrome\, Saint-Ouen-sur-Seine\, 93400\, France
CATEGORIES:Festival
ATTACH;FMTTYPE=image/jpeg:https://cepep.fr/wp-content/uploads/2025/04/MEDIA-CARRE.jpg
ORGANIZER;CN="CEPEP":MAILTO:contact@cepep.fr
END:VEVENT
END:VCALENDAR