BEGIN:VCALENDAR
VERSION:2.0
PRODID:-//CEPEP - ECPv6.15.20//NONSGML v1.0//EN
CALSCALE:GREGORIAN
METHOD:PUBLISH
X-WR-CALNAME:CEPEP
X-ORIGINAL-URL:https://cepep.fr
X-WR-CALDESC:Évènements pour CEPEP
REFRESH-INTERVAL;VALUE=DURATION:PT1H
X-Robots-Tag:noindex
X-PUBLISHED-TTL:PT1H
BEGIN:VTIMEZONE
TZID:Europe/Paris
BEGIN:DAYLIGHT
TZOFFSETFROM:+0100
TZOFFSETTO:+0200
TZNAME:CEST
DTSTART:20240331T010000
END:DAYLIGHT
BEGIN:STANDARD
TZOFFSETFROM:+0200
TZOFFSETTO:+0100
TZNAME:CET
DTSTART:20241027T010000
END:STANDARD
BEGIN:DAYLIGHT
TZOFFSETFROM:+0100
TZOFFSETTO:+0200
TZNAME:CEST
DTSTART:20250330T010000
END:DAYLIGHT
BEGIN:STANDARD
TZOFFSETFROM:+0200
TZOFFSETTO:+0100
TZNAME:CET
DTSTART:20251026T010000
END:STANDARD
BEGIN:DAYLIGHT
TZOFFSETFROM:+0100
TZOFFSETTO:+0200
TZNAME:CEST
DTSTART:20260329T010000
END:DAYLIGHT
BEGIN:STANDARD
TZOFFSETFROM:+0200
TZOFFSETTO:+0100
TZNAME:CET
DTSTART:20261025T010000
END:STANDARD
END:VTIMEZONE
BEGIN:VEVENT
DTSTART;TZID=Europe/Paris:20250420T110000
DTEND;TZID=Europe/Paris:20250420T170000
DTSTAMP:20260425T215521
CREATED:20260414T220318Z
LAST-MODIFIED:20260414T220318Z
UID:7210-1745146800-1745168400@cepep.fr
SUMMARY:Journée culturelle La Vie est Belle
DESCRIPTION:Journée spéciale Rumba congolaise à la Communale Saint-Ouen\nLe 20 avril\, plongez au cœur de la rumba congolaise lors d’une journée exceptionnelle mêlant danse\, musique\, ateliers créatifs et cinéma à la Communale Saint-Ouen. \nOrganisé par Africultures\, Ciné Scred et Bleu Maison\, avec le soutien de la Communale et du CEPEP\, cet événement met à l’honneur un genre musical majeur\, inscrit au patrimoine culturel immatériel de l’humanité par l’UNESCO. \nÀ l’honneur\nProjection du film culte La Vie est Belle (1987) de Mweze Ngangura et Benoît Lamy\, avec Papa Wemba.Un film emblématique qui plonge le spectateur dans un Kinshasa vibrant\, festif et profondément culturel. \nProgramme\nAtelier d’initiation à la linogravure sur le thème “Sapeur bien sapé” avec Bleu Maison\, sur réservation \nAtelier d’initiation à la danse rumba avec Le Bachelor (jalebachelor)\, entrée libre \nConcert de rumba avec Landry\, entrée libre \nProjection du film La Vie est Belle\, gratuit sur réservation \nDiscussion autour de l’héritage et de l’impact mondial de la rumba congolaise avec Orphée Wemba et José Nzolani\, animée par Ruth Louzingou et Cédric Moninga\, entrée libre \nInformations pratiques\nLieu Communale Saint-OuenDate 20 avrilUn rendez-vous consacré à la transmission\, à la culture et à la célébration de la rumba congolaise dans toute sa richesse.
URL:https://cepep.fr/event/journee-culturelle-la-vie-est-belle/
ATTACH;FMTTYPE=image/jpeg:https://cepep.fr/wp-content/uploads/2025/04/292123247_5158612727520027_9140009244982374195_n.jpg
END:VEVENT
END:VCALENDAR